BEGIN:VCALENDAR
VERSION:2.0
PRODID:-//Malthe Winje Group - Sverige - ECPv6.15.20//NONSGML v1.0//EN
CALSCALE:GREGORIAN
METHOD:PUBLISH
X-ORIGINAL-URL:https://mwa.se
X-WR-CALDESC:Händelser för Malthe Winje Group - Sverige
REFRESH-INTERVAL;VALUE=DURATION:PT1H
X-Robots-Tag:noindex
X-PUBLISHED-TTL:PT1H
BEGIN:VTIMEZONE
TZID:Europe/Stockholm
BEGIN:DAYLIGHT
TZOFFSETFROM:+0100
TZOFFSETTO:+0200
TZNAME:CEST
DTSTART:20240331T010000
END:DAYLIGHT
BEGIN:STANDARD
TZOFFSETFROM:+0200
TZOFFSETTO:+0100
TZNAME:CET
DTSTART:20241027T010000
END:STANDARD
BEGIN:DAYLIGHT
TZOFFSETFROM:+0100
TZOFFSETTO:+0200
TZNAME:CEST
DTSTART:20250330T010000
END:DAYLIGHT
BEGIN:STANDARD
TZOFFSETFROM:+0200
TZOFFSETTO:+0100
TZNAME:CET
DTSTART:20251026T010000
END:STANDARD
BEGIN:DAYLIGHT
TZOFFSETFROM:+0100
TZOFFSETTO:+0200
TZNAME:CEST
DTSTART:20260329T010000
END:DAYLIGHT
BEGIN:STANDARD
TZOFFSETFROM:+0200
TZOFFSETTO:+0100
TZNAME:CET
DTSTART:20261025T010000
END:STANDARD
END:VTIMEZONE
BEGIN:VEVENT
DTSTART;TZID=Europe/Stockholm:20250826T100000
DTEND;TZID=Europe/Stockholm:20250828T140000
DTSTAMP:20260422T111845
CREATED:20250826T123908Z
LAST-MODIFIED:20250829T110145Z
UID:10000114-1756202400-1756389600@mwa.se
SUMMARY:ExpoStyr – Kalmar\, Växjö & Helsingborg
DESCRIPTION:[vc_row][vc_column][vc_column_text css=””] \nV.35 ExpoStyr – Kalmar\, Växjö & Helsingborg\n26-28 augusti: Hela Sveriges styr-mingel! ExpoStyr är Sveriges viktigaste regionala arena för branschnyheter och nätverkande. Ta del av de senaste produkt- och systemlösningarna\, kompetensutveckla dig och spara arbetstid. \nKlicka här för att läsa mer om mässan och anmäla dig.[/vc_column_text][/vc_column][/vc_row][vc_row][vc_column][vc_column_text]=====[/vc_column_text][vc_column_text]=====[/vc_column_text][/vc_column][/vc_row]
URL:https://mwa.se/arrangement/expostyr-kalmar-vaxjo-helsingborg/
CATEGORIES:Mässor
ATTACH;FMTTYPE=image/png:https://mwa.se/wp-content/uploads/2025/08/Expostyr.png
END:VEVENT
END:VCALENDAR