BEGIN:VCALENDAR
VERSION:2.0
PRODID:-//Malthe Winje Group - Sverige - ECPv6.15.20//NONSGML v1.0//EN
CALSCALE:GREGORIAN
METHOD:PUBLISH
X-ORIGINAL-URL:https://mwa.se
X-WR-CALDESC:Händelser för Malthe Winje Group - Sverige
REFRESH-INTERVAL;VALUE=DURATION:PT1H
X-Robots-Tag:noindex
X-PUBLISHED-TTL:PT1H
BEGIN:VTIMEZONE
TZID:Europe/Stockholm
BEGIN:DAYLIGHT
TZOFFSETFROM:+0100
TZOFFSETTO:+0200
TZNAME:CEST
DTSTART:20240331T010000
END:DAYLIGHT
BEGIN:STANDARD
TZOFFSETFROM:+0200
TZOFFSETTO:+0100
TZNAME:CET
DTSTART:20241027T010000
END:STANDARD
BEGIN:DAYLIGHT
TZOFFSETFROM:+0100
TZOFFSETTO:+0200
TZNAME:CEST
DTSTART:20250330T010000
END:DAYLIGHT
BEGIN:STANDARD
TZOFFSETFROM:+0200
TZOFFSETTO:+0100
TZNAME:CET
DTSTART:20251026T010000
END:STANDARD
BEGIN:DAYLIGHT
TZOFFSETFROM:+0100
TZOFFSETTO:+0200
TZNAME:CEST
DTSTART:20260329T010000
END:DAYLIGHT
BEGIN:STANDARD
TZOFFSETFROM:+0200
TZOFFSETTO:+0100
TZNAME:CET
DTSTART:20261025T010000
END:STANDARD
END:VTIMEZONE
BEGIN:VEVENT
DTSTART;TZID=Europe/Stockholm:20251105T090000
DTEND;TZID=Europe/Stockholm:20251106T143000
DTSTAMP:20260422T062004
CREATED:20250826T130207Z
LAST-MODIFIED:20250829T105400Z
UID:10000119-1762333200-1762439400@mwa.se
SUMMARY:Nationella dricksvattenkonferensen – Umeå
DESCRIPTION:[vc_row][vc_column][vc_column_text css=””] \nV.45 Nationella dricksvattenkonferensen – Umeå\n5-6 november: Varje år arrangeras Nationella dricksvattenkonferensen som är en av Svenskt Vattens större konferenser med mellan 250-300 deltagare. Under två dagar möte du Svenskt Vattens dricksvattenexperter som tillsammans med kunniga talare lyfter branschens frågor och utvecklingen inom dricksvattenproduktion. \nKlicka här för att läsa mer om mässan.[/vc_column_text][/vc_column][/vc_row][vc_row][vc_column][vc_column_text]=====[/vc_column_text][vc_column_text]=====[/vc_column_text][/vc_column][/vc_row]
URL:https://mwa.se/arrangement/nationella-dricksvattenkonferensen-umea/
CATEGORIES:Mässor
ATTACH;FMTTYPE=image/png:https://mwa.se/wp-content/uploads/2025/08/Vatten-2025-2.png
END:VEVENT
BEGIN:VEVENT
DTSTART;TZID=Europe/Stockholm:20251111T100000
DTEND;TZID=Europe/Stockholm:20251114T140000
DTSTAMP:20260422T062004
CREATED:20250826T130415Z
LAST-MODIFIED:20250829T105318Z
UID:10000120-1762855200-1763128800@mwa.se
SUMMARY:ExpoVA – Luleå\, Skellefteå\, Umeå & Östersund
DESCRIPTION:[vc_row][vc_column][vc_column_text css=””] \nV.46 ExpoVA – Luleå\, Skellefteå\, Umeå & Östersund\n11-14 november: Hela Sveriges VA-mingel! ExpoVA är Sveriges viktigaste regionala arena för branschnyheter och nätverkande. Ta del av de senaste produkt- och systemlösningarna\, kompetensutveckla dig och spara arbetstid. \nKlicka här för att läsa mer om mässan och anmäla dig.[/vc_column_text][/vc_column][/vc_row][vc_row][vc_column][vc_column_text]=====[/vc_column_text][vc_column_text]=====[/vc_column_text][/vc_column][/vc_row]
URL:https://mwa.se/arrangement/expova-lulea-skelleftea-umea-ostersund/
CATEGORIES:Mässor
ATTACH;FMTTYPE=image/png:https://mwa.se/wp-content/uploads/2025/08/Vatten-2025-3.png
END:VEVENT
END:VCALENDAR