BEGIN:VCALENDAR
VERSION:2.0
PRODID:-//Malthe Winje Group - Sverige - ECPv6.15.20//NONSGML v1.0//EN
CALSCALE:GREGORIAN
METHOD:PUBLISH
X-ORIGINAL-URL:https://mwa.se
X-WR-CALDESC:Händelser för Malthe Winje Group - Sverige
REFRESH-INTERVAL;VALUE=DURATION:PT1H
X-Robots-Tag:noindex
X-PUBLISHED-TTL:PT1H
BEGIN:VTIMEZONE
TZID:Europe/Stockholm
BEGIN:DAYLIGHT
TZOFFSETFROM:+0100
TZOFFSETTO:+0200
TZNAME:CEST
DTSTART:20240331T010000
END:DAYLIGHT
BEGIN:STANDARD
TZOFFSETFROM:+0200
TZOFFSETTO:+0100
TZNAME:CET
DTSTART:20241027T010000
END:STANDARD
BEGIN:DAYLIGHT
TZOFFSETFROM:+0100
TZOFFSETTO:+0200
TZNAME:CEST
DTSTART:20250330T010000
END:DAYLIGHT
BEGIN:STANDARD
TZOFFSETFROM:+0200
TZOFFSETTO:+0100
TZNAME:CET
DTSTART:20251026T010000
END:STANDARD
BEGIN:DAYLIGHT
TZOFFSETFROM:+0100
TZOFFSETTO:+0200
TZNAME:CEST
DTSTART:20260329T010000
END:DAYLIGHT
BEGIN:STANDARD
TZOFFSETFROM:+0200
TZOFFSETTO:+0100
TZNAME:CET
DTSTART:20261025T010000
END:STANDARD
END:VTIMEZONE
BEGIN:VEVENT
DTSTART;TZID=Europe/Stockholm:20251001T100000
DTEND;TZID=Europe/Stockholm:20251001T140000
DTSTAMP:20260422T020825
CREATED:20250829T105246Z
LAST-MODIFIED:20251008T054335Z
UID:10000121-1759312800-1759327200@mwa.se
SUMMARY:El & Industri – Ahlsell Örebro
DESCRIPTION:[vc_row][vc_column][vc_column_text css=””][/vc_column_text][/vc_column][/vc_row][vc_row][vc_column][vc_column_text]=====[/vc_column_text][vc_column_text]=====[/vc_column_text][/vc_column][/vc_row]
URL:https://mwa.se/arrangement/el-industri-ahlsell-orebro/
CATEGORIES:Mässor
ATTACH;FMTTYPE=image/png:https://mwa.se/wp-content/uploads/2025/08/Industrimassa-Elektroskandia-2.png
END:VEVENT
BEGIN:VEVENT
DTSTART;TZID=Europe/Stockholm:20251007T100000
DTEND;TZID=Europe/Stockholm:20251009T140000
DTSTAMP:20260422T020825
CREATED:20250826T124903Z
LAST-MODIFIED:20250829T105440Z
UID:10000115-1759831200-1760018400@mwa.se
SUMMARY:ExpoStyr – Göteborg\, Jönköping & Skövde
DESCRIPTION:[vc_row][vc_column][vc_column_text css=””] \nV.41 ExpoStyr – Göteborg\, Jönköping & Skövde\n7-9 oktober: Hela Sveriges styr-mingel! ExpoStyr är Sveriges viktigaste regionala arena för branschnyheter och nätverkande. Ta del av de senaste produkt- och systemlösningarna\, kompetensutveckla dig och spara arbetstid. \nKlicka här för att läsa mer om mässan och anmäla dig.[/vc_column_text][/vc_column][/vc_row][vc_row][vc_column][vc_column_text]=====[/vc_column_text][vc_column_text]=====[/vc_column_text][/vc_column][/vc_row]
URL:https://mwa.se/arrangement/expostyr-goteborg-jonkoping-skovde/
CATEGORIES:Mässor
ATTACH;FMTTYPE=image/png:https://mwa.se/wp-content/uploads/2025/08/Expostyr.png
END:VEVENT
BEGIN:VEVENT
DTSTART;TZID=Europe/Stockholm:20251010T090000
DTEND;TZID=Europe/Stockholm:20251010T140000
DTSTAMP:20260422T020825
CREATED:20250826T125548Z
LAST-MODIFIED:20250829T105056Z
UID:10000116-1760086800-1760104800@mwa.se
SUMMARY:Industrimässa Sonepar – Oskarshamn
DESCRIPTION:[vc_row][vc_column][vc_column_text css=””][/vc_column_text][/vc_column][/vc_row][vc_row][vc_column][vc_column_text]=====[/vc_column_text][vc_column_text]=====[/vc_column_text][/vc_column][/vc_row]
URL:https://mwa.se/arrangement/industrimassa-elektroskandia-oskarshamn/
CATEGORIES:Mässor
ATTACH;FMTTYPE=image/png:https://mwa.se/wp-content/uploads/2025/08/Industrimassa-Elektroskandia-1.png
END:VEVENT
BEGIN:VEVENT
DTSTART;TZID=Europe/Stockholm:20251015T090000
DTEND;TZID=Europe/Stockholm:20251016T160000
DTSTAMP:20260422T020825
CREATED:20250826T125741Z
LAST-MODIFIED:20250826T125752Z
UID:10000117-1760518800-1760630400@mwa.se
SUMMARY:Elmässan – Kista
DESCRIPTION:[vc_row][vc_column][vc_column_text css=””] \nElmässan – Kista\n15-16 oktober: Affärsarenan med fokus på produktnyheter inom installation\, belysning och fiber. Välkommen till Elmässan\, årets stora event för el- och belysningsbranschen! Vi har arrangerats på Kistamässan\, Stockholm\, sedan 2004 och är idag en självklar knytpunkt för tusentals elektriker\, installatörer\, projektledare\, fastighetsägare och många fler. \nKlicka här för att läsa mer om mässan.[/vc_column_text][/vc_column][/vc_row][vc_row][vc_column][vc_column_text]=====[/vc_column_text][vc_column_text]=====[/vc_column_text][/vc_column][/vc_row]
URL:https://mwa.se/arrangement/elmassan-kista/
CATEGORIES:Mässor
ATTACH;FMTTYPE=image/png:https://mwa.se/wp-content/uploads/2025/08/Expostyr-1.png
END:VEVENT
BEGIN:VEVENT
DTSTART;TZID=Europe/Stockholm:20251021T090000
DTEND;TZID=Europe/Stockholm:20251023T160000
DTSTAMP:20260422T020825
CREATED:20250826T125933Z
LAST-MODIFIED:20250826T125933Z
UID:10000118-1761037200-1761235200@mwa.se
SUMMARY:Vatten2025 – Göteborg
DESCRIPTION:[vc_row][vc_column][vc_column_text css=””] \nV.43 Vatten2025 – Göteborg\n21-23 oktober: Mötesplatsen för vattnets framtida kretslopp. I samarbete med branschorganisationen Vattenindustrin arrangerar Svenska Mässan Vatten2024. Aldrig förr har så mycket kompetens inom vatten och avlopp samlats på en och samma plats. \nKlicka här för att läsa mer om mässan. [/vc_column_text][/vc_column][/vc_row][vc_row][vc_column][vc_column_text]=====[/vc_column_text][vc_column_text]=====[/vc_column_text][/vc_column][/vc_row]
URL:https://mwa.se/arrangement/vatten2025-goteborg/
CATEGORIES:Mässor
ATTACH;FMTTYPE=image/png:https://mwa.se/wp-content/uploads/2025/08/Vatten-2025.png
END:VEVENT
END:VCALENDAR